BEGIN:VCALENDAR
VERSION:2.0
PRODID:-//Wally Lamb, #1 New York Times bestselling author - ECPv6.15.11//NONSGML v1.0//EN
CALSCALE:GREGORIAN
METHOD:PUBLISH
X-ORIGINAL-URL:https://wallylamb.net
X-WR-CALDESC:Events for Wally Lamb, #1 New York Times bestselling author
REFRESH-INTERVAL;VALUE=DURATION:PT1H
X-Robots-Tag:noindex
X-PUBLISHED-TTL:PT1H
BEGIN:VTIMEZONE
TZID:America/New_York
BEGIN:DAYLIGHT
TZOFFSETFROM:-0500
TZOFFSETTO:-0400
TZNAME:EDT
DTSTART:20250309T070000
END:DAYLIGHT
BEGIN:STANDARD
TZOFFSETFROM:-0400
TZOFFSETTO:-0500
TZNAME:EST
DTSTART:20251102T060000
END:STANDARD
BEGIN:DAYLIGHT
TZOFFSETFROM:-0500
TZOFFSETTO:-0400
TZNAME:EDT
DTSTART:20260308T070000
END:DAYLIGHT
BEGIN:STANDARD
TZOFFSETFROM:-0400
TZOFFSETTO:-0500
TZNAME:EST
DTSTART:20261101T060000
END:STANDARD
BEGIN:DAYLIGHT
TZOFFSETFROM:-0500
TZOFFSETTO:-0400
TZNAME:EDT
DTSTART:20270314T070000
END:DAYLIGHT
BEGIN:STANDARD
TZOFFSETFROM:-0400
TZOFFSETTO:-0500
TZNAME:EST
DTSTART:20271107T060000
END:STANDARD
END:VTIMEZONE
BEGIN:VEVENT
DTSTART;TZID=America/New_York:20260505T190000
DTEND;TZID=America/New_York:20260505T210000
DTSTAMP:20260419T084540
CREATED:20260324T123837Z
LAST-MODIFIED:20260324T124115Z
UID:1619-1778007600-1778014800@wallylamb.net
SUMMARY:2026 Quiet Corner Reads - May 5th at 7pm
DESCRIPTION:Wally Lamb 2026 Quiet Corner Reads\nAn Evening with the author May 5th at 7pm\nMansion at Bald Hill\n29 Plaine Hill Rd\nWoodstock\, CT 06281 \nTickets ($20) are on sale now at QC Reads Libraries.
URL:https://wallylamb.net/event/2026-quiet-corner-reads/
LOCATION:Mansion at Bald Hill\, 29 Plaine Hill Rd\, Woodstock\, CT\, 06281\, United States
END:VEVENT
BEGIN:VEVENT
DTSTART;TZID=America/New_York:20260518T190000
DTEND;TZID=America/New_York:20260518T210000
DTSTAMP:20260419T084540
CREATED:20260416T124520Z
LAST-MODIFIED:20260416T124520Z
UID:1652-1779130800-1779138000@wallylamb.net
SUMMARY:Barnes & Noble: Upper West Side
DESCRIPTION:
URL:https://wallylamb.net/event/barnes-noble-upper-west-side/
LOCATION:Barnes & Noble: Upper West Side\, 2289 Broadway\, New York\, NY\, 10024\, United States
END:VEVENT
BEGIN:VEVENT
DTSTART;TZID=America/New_York:20260519T193000
DTEND;TZID=America/New_York:20260519T213000
DTSTAMP:20260419T084540
CREATED:20260416T124352Z
LAST-MODIFIED:20260416T124352Z
UID:1649-1779219000-1779226200@wallylamb.net
SUMMARY:[words] Bookstore
DESCRIPTION:
URL:https://wallylamb.net/event/words-bookstore/
LOCATION:[words] Bookstore\, 179 Maplewood Ave\, Maplewood\, NJ\, 07040\, United States
END:VEVENT
BEGIN:VEVENT
DTSTART;TZID=America/New_York:20260522T183000
DTEND;TZID=America/New_York:20260522T203000
DTSTAMP:20260419T084540
CREATED:20260416T124240Z
LAST-MODIFIED:20260416T124240Z
UID:1646-1779474600-1779481800@wallylamb.net
SUMMARY:An Unlikely Story
DESCRIPTION:
URL:https://wallylamb.net/event/an-unlikely-story/
LOCATION:An Unlikely Story\, 111 South St.\, Plainville\, MA\, 02762\, United States
END:VEVENT
BEGIN:VEVENT
DTSTART;TZID=America/New_York:20260523T130000
DTEND;TZID=America/New_York:20260523T150000
DTSTAMP:20260419T084540
CREATED:20260416T124113Z
LAST-MODIFIED:20260416T124113Z
UID:1643-1779541200-1779548400@wallylamb.net
SUMMARY:Barnes & Noble: Enfield
DESCRIPTION:
URL:https://wallylamb.net/event/barnes-noble-enfield/
LOCATION:Barnes & Noble Enfield\, 25 Hazard Ave\, Enfield\, CT\, 06082\, United States
END:VEVENT
BEGIN:VEVENT
DTSTART;TZID=America/New_York:20260603T180000
DTEND;TZID=America/New_York:20260603T200000
DTSTAMP:20260419T084540
CREATED:20260416T123856Z
LAST-MODIFIED:20260416T123952Z
UID:1638-1780509600-1780516800@wallylamb.net
SUMMARY:Barnes & Noble: Philadelphia
DESCRIPTION:
URL:https://wallylamb.net/event/barnes-noble-philadelphia/
LOCATION:Barnes & Noble – Philadelphia\, 1708 Chestnut Street\, Philadelphia\, PA\, 19103\, United States
END:VEVENT
BEGIN:VEVENT
DTSTART;TZID=America/New_York:20260604T190000
DTEND;TZID=America/New_York:20260604T210000
DTSTAMP:20260419T084540
CREATED:20260416T123716Z
LAST-MODIFIED:20260416T123735Z
UID:1634-1780599600-1780606800@wallylamb.net
SUMMARY:Riverstone Books at the Third Presbyterian Church
DESCRIPTION:
URL:https://wallylamb.net/event/riverstone-books-at-the-third-presbyterian-church/
LOCATION:Riverstone Books at the Third Presbyterian Church\, 5701 Fifth Avenue\, Shadyside\, PA\, 15232\, United States
END:VEVENT
END:VCALENDAR