BEGIN:VCALENDAR
VERSION:2.0
PRODID:-//Wally Lamb, #1 New York Times bestselling author - ECPv6.15.11//NONSGML v1.0//EN
CALSCALE:GREGORIAN
METHOD:PUBLISH
X-WR-CALNAME:Wally Lamb, #1 New York Times bestselling author
X-ORIGINAL-URL:https://wallylamb.net
X-WR-CALDESC:Events for Wally Lamb, #1 New York Times bestselling author
REFRESH-INTERVAL;VALUE=DURATION:PT1H
X-Robots-Tag:noindex
X-PUBLISHED-TTL:PT1H
BEGIN:VTIMEZONE
TZID:America/New_York
BEGIN:DAYLIGHT
TZOFFSETFROM:-0500
TZOFFSETTO:-0400
TZNAME:EDT
DTSTART:20240310T070000
END:DAYLIGHT
BEGIN:STANDARD
TZOFFSETFROM:-0400
TZOFFSETTO:-0500
TZNAME:EST
DTSTART:20241103T060000
END:STANDARD
BEGIN:DAYLIGHT
TZOFFSETFROM:-0500
TZOFFSETTO:-0400
TZNAME:EDT
DTSTART:20250309T070000
END:DAYLIGHT
BEGIN:STANDARD
TZOFFSETFROM:-0400
TZOFFSETTO:-0500
TZNAME:EST
DTSTART:20251102T060000
END:STANDARD
BEGIN:DAYLIGHT
TZOFFSETFROM:-0500
TZOFFSETTO:-0400
TZNAME:EDT
DTSTART:20260308T070000
END:DAYLIGHT
BEGIN:STANDARD
TZOFFSETFROM:-0400
TZOFFSETTO:-0500
TZNAME:EST
DTSTART:20261101T060000
END:STANDARD
END:VTIMEZONE
BEGIN:VEVENT
DTSTART;VALUE=DATE:20250610
DTEND;VALUE=DATE:20250611
DTSTAMP:20260420T022701
CREATED:20250417T125331Z
LAST-MODIFIED:20250417T130513Z
UID:1357-1749513600-1749599999@wallylamb.net
SUMMARY:The Corner Bookstore
DESCRIPTION:
URL:https://wallylamb.net/event/the-corner-bookstore/
LOCATION:The Corner Bookstore\, 1313 Madison Ave\, New York\, NY\, 10128\, United States
END:VEVENT
BEGIN:VEVENT
DTSTART;VALUE=DATE:20250611
DTEND;VALUE=DATE:20250612
DTSTAMP:20260420T022701
CREATED:20250417T125723Z
LAST-MODIFIED:20250417T125723Z
UID:1367-1749600000-1749686399@wallylamb.net
SUMMARY:Titcomb's Bookshop at Old Ridge School
DESCRIPTION:
URL:https://wallylamb.net/event/titcombs-bookshop-at-old-ridge-school/
LOCATION:Titcomb’s Bookshop at Oak Ridge School\, 260 Quaker Meetinghouse Rd\, East Sandwich\, MA\, United States
END:VEVENT
BEGIN:VEVENT
DTSTART;VALUE=DATE:20250613
DTEND;VALUE=DATE:20250614
DTSTAMP:20260420T022701
CREATED:20250417T130020Z
LAST-MODIFIED:20250606T161421Z
UID:1373-1749772800-1749859199@wallylamb.net
SUMMARY:The Nantucket Book Festival
DESCRIPTION:
URL:https://wallylamb.net/event/the-nantucket-book-festival/
LOCATION:The Nantucket Book Festival\, The Nantucket Hotel & Resort\, 77 Easton St\, Nantucket\, MA\, United States
ATTACH;FMTTYPE=image/jpeg:https://wallylamb.net/wp-content/uploads/2025/04/1080x1350_Social-Media-Ad_W.Lamb_.jpg
END:VEVENT
BEGIN:VEVENT
DTSTART;VALUE=DATE:20250616
DTEND;VALUE=DATE:20250617
DTSTAMP:20260420T022701
CREATED:20250417T130221Z
LAST-MODIFIED:20250417T130500Z
UID:1376-1750032000-1750118399@wallylamb.net
SUMMARY:The River Room in Conversation with Laura Heeger
DESCRIPTION:
URL:https://wallylamb.net/event/the-river-room-in-conversation-with-laura-heeger/
LOCATION:The River Room\, 50 Riverside Drive\, Willimantic\, CT\, 06226\, United States
END:VEVENT
BEGIN:VEVENT
DTSTART;VALUE=DATE:20250617
DTEND;VALUE=DATE:20250618
DTSTAMP:20260420T022701
CREATED:20250417T130355Z
LAST-MODIFIED:20250417T130355Z
UID:1381-1750118400-1750204799@wallylamb.net
SUMMARY:RJ Julia Booksellers at the First Congregational Church
DESCRIPTION:
URL:https://wallylamb.net/event/rj-julia-booksellers-at-the-first-congregational-church/
LOCATION:First Congregational Church\, 26 Meetinghouse Ln\, Madison\, CT\, 06443\, United States
END:VEVENT
BEGIN:VEVENT
DTSTART;VALUE=DATE:20250618
DTEND;VALUE=DATE:20250619
DTSTAMP:20260420T022701
CREATED:20250417T130700Z
LAST-MODIFIED:20250417T130700Z
UID:1388-1750204800-1750291199@wallylamb.net
SUMMARY:Bank Square Books
DESCRIPTION:
URL:https://wallylamb.net/event/bank-square-books/
LOCATION:Bank Square Books\, 80 Stonington Road\, Mystic\, CT\, 06355\, United States
END:VEVENT
BEGIN:VEVENT
DTSTART;VALUE=DATE:20250620
DTEND;VALUE=DATE:20250621
DTSTAMP:20260420T022701
CREATED:20250513T210441Z
LAST-MODIFIED:20250513T210441Z
UID:1542-1750377600-1750463999@wallylamb.net
SUMMARY:The River Room (2nd night)
DESCRIPTION:
URL:https://wallylamb.net/event/the-river-room-2nd-night/
LOCATION:The River Room\, 50 Riverside Drive\, Willimantic\, CT\, 06226\, United States
END:VEVENT
BEGIN:VEVENT
DTSTART;VALUE=DATE:20250623
DTEND;VALUE=DATE:20250624
DTSTAMP:20260420T022701
CREATED:20250417T131035Z
LAST-MODIFIED:20250417T131321Z
UID:1392-1750636800-1750723199@wallylamb.net
SUMMARY:Barrington Books with the Barrington Public Library
DESCRIPTION:
URL:https://wallylamb.net/event/barrington-books-with-the-barrington-public-library/
LOCATION:Barrington Public Library\, 281 County Rd\, Barrington\, RI\, 02806\, United States
END:VEVENT
BEGIN:VEVENT
DTSTART;VALUE=DATE:20250625
DTEND;VALUE=DATE:20250626
DTSTAMP:20260420T022701
CREATED:20250417T131235Z
LAST-MODIFIED:20250417T131235Z
UID:1396-1750809600-1750895999@wallylamb.net
SUMMARY:Northshire Bookstore in conversation with WAMC's Joe Donahue
DESCRIPTION:
URL:https://wallylamb.net/event/northshire-bookstore-in-conversation-with-wamcs-joe-donahue/
LOCATION:Saratoga Springs City Center\, 522 Broadway Entrance\, Saratoga Springs\, NY\, 12866\, United States
END:VEVENT
END:VCALENDAR