BEGIN:VCALENDAR
VERSION:2.0
PRODID:-//Wally Lamb, #1 New York Times bestselling author - ECPv6.15.11//NONSGML v1.0//EN
CALSCALE:GREGORIAN
METHOD:PUBLISH
X-WR-CALNAME:Wally Lamb, #1 New York Times bestselling author
X-ORIGINAL-URL:https://wallylamb.net
X-WR-CALDESC:Events for Wally Lamb, #1 New York Times bestselling author
REFRESH-INTERVAL;VALUE=DURATION:PT1H
X-Robots-Tag:noindex
X-PUBLISHED-TTL:PT1H
BEGIN:VTIMEZONE
TZID:America/New_York
BEGIN:DAYLIGHT
TZOFFSETFROM:-0500
TZOFFSETTO:-0400
TZNAME:EDT
DTSTART:20250309T070000
END:DAYLIGHT
BEGIN:STANDARD
TZOFFSETFROM:-0400
TZOFFSETTO:-0500
TZNAME:EST
DTSTART:20251102T060000
END:STANDARD
BEGIN:DAYLIGHT
TZOFFSETFROM:-0500
TZOFFSETTO:-0400
TZNAME:EDT
DTSTART:20260308T070000
END:DAYLIGHT
BEGIN:STANDARD
TZOFFSETFROM:-0400
TZOFFSETTO:-0500
TZNAME:EST
DTSTART:20261101T060000
END:STANDARD
BEGIN:DAYLIGHT
TZOFFSETFROM:-0500
TZOFFSETTO:-0400
TZNAME:EDT
DTSTART:20270314T070000
END:DAYLIGHT
BEGIN:STANDARD
TZOFFSETFROM:-0400
TZOFFSETTO:-0500
TZNAME:EST
DTSTART:20271107T060000
END:STANDARD
END:VTIMEZONE
BEGIN:VEVENT
DTSTART;VALUE=DATE:20260312
DTEND;VALUE=DATE:20260316
DTSTAMP:20260419T113332
CREATED:20260123T165538Z
LAST-MODIFIED:20260123T165621Z
UID:1603-1773273600-1773619199@wallylamb.net
SUMMARY:The New Orleans Book Festival at Tulane University
DESCRIPTION:
URL:https://wallylamb.net/event/the-new-orleans-book-festival-at-tulane-university/
LOCATION:Tulane Universiry\, 200 Broadway Street Suite 126\, New Orleans\, LA\, 70118\, United States
ATTACH;FMTTYPE=image/jpeg:https://wallylamb.net/wp-content/uploads/2026/01/wa.jpg
END:VEVENT
END:VCALENDAR